BEGIN:VCALENDAR
VERSION:2.0
PRODID:-//ExpressionEngine Easy iCalendar plugin//NONSGML v2.0.1//EN
X-WR-TIMEZONE:America/Chicago
X-WR-CALNAME:Upcoming Auctions
BEGIN:VEVENT
UID:117998
DTSTAMP:20240425T110000
DTSTART:20240425T110000
DTEND:20240425T120000
SUMMARY:Closed- Renville Co.\, MN - 135.37 Ac.\, m/l (190-0321-01)
LOCATION:580th St. @ 880th Ave.\, Hutchinson\, MN 55350\, US
DESCRIPTION:Productive Renville County Farm with an Open Lease for the 
 2024 Crop Year!
URL:https://www.hertz.ag/auctions/detail/bw117998
SEQUENCE:1
END:VEVENT
END:VCALENDAR