BEGIN:VCALENDAR
VERSION:2.0
PRODID:-//ExpressionEngine Easy iCalendar plugin//NONSGML v2.0.1//EN
X-WR-TIMEZONE:America/Chicago
X-WR-CALNAME:Upcoming Auctions
BEGIN:VEVENT
UID:116070
DTSTAMP:20240402T100000
DTSTART:20240402T100000
DTEND:20240402T110000
SUMMARY:Closed - Hamilton Co.\, IA - 237.20 Ac.\, m/l (000-3988)
LOCATION:{location}
DESCRIPTION:237.20 Acres will be Offered in 3 Parcels!
URL:https://www.hertz.ag/auctions/detail/bw116070
SEQUENCE:1
END:VEVENT
END:VCALENDAR