BEGIN:VCALENDAR
VERSION:2.0
PRODID:-//ExpressionEngine Easy iCalendar plugin//NONSGML v2.0.1//EN
X-WR-TIMEZONE:America/Chicago
X-WR-CALNAME:Upcoming Auctions
BEGIN:VEVENT
UID:115922
DTSTAMP:20240402T130000
DTSTART:20240402T130000
DTEND:20240402T140000
SUMMARY:Closed - Tazewell Co.\, IL - 40.00 Ac.\, m/l (030-0488-01)
LOCATION:Illinois Hwy 122\, Delavan\, IL 61734\, US
DESCRIPTION:Quality Tazewell County Farm\; Nearly 100% Tillable!
URL:https://www.hertz.ag/auctions/detail/bw115922
SEQUENCE:1
END:VEVENT
END:VCALENDAR