BEGIN:VCALENDAR
VERSION:2.0
PRODID:-//ExpressionEngine Easy iCalendar plugin//NONSGML v2.0.1//EN
X-WR-TIMEZONE:America/Chicago
X-WR-CALNAME:Upcoming Auctions
BEGIN:VEVENT
UID:115257
DTSTAMP:20240417T133000
DTSTART:20240417T133000
DTEND:20240417T143000
SUMMARY:Closed - Dakota Co.\, MN - 58.29 Ac.\, m/l (190-0221-01)
LOCATION:Nicolai Ave. @ 260th St.\, Cannon Falls\, MN 55009\, US
DESCRIPTION:Quality Farmland with Building Rights!
URL:https://www.hertz.ag/auctions/detail/bw115257
SEQUENCE:1
END:VEVENT
END:VCALENDAR