BEGIN:VCALENDAR
VERSION:2.0
PRODID:-//ExpressionEngine Easy iCalendar plugin//NONSGML v2.0.1//EN
X-WR-TIMEZONE:America/Chicago
X-WR-CALNAME:Upcoming Auctions
BEGIN:VEVENT
UID:113111
DTSTAMP:20240126T110000
DTSTART:20240126T110000
DTEND:20240126T120000
SUMMARY:Sale Pending - Watonwan Co.\, MN - 231.98 Ac.\, m/l (190-0224)
LOCATION:{location}
DESCRIPTION:231.98 Acres will be Offered in 2 Parcels!
URL:https://www.hertz.ag/auctions/detail/bw113111
SEQUENCE:1
END:VEVENT
END:VCALENDAR