BEGIN:VCALENDAR
VERSION:2.0
PRODID:-//ExpressionEngine Easy iCalendar plugin//NONSGML v2.0.1//EN
X-WR-TIMEZONE:America/Chicago
X-WR-CALNAME:Upcoming Auctions
BEGIN:VEVENT
UID:112238
DTSTAMP:20240105T100000
DTSTART:20240105T100000
DTEND:20240105T110000
SUMMARY:Closed- Nicollet Co.\, MN - 225.58 Ac.\, m/l (190-0226)
LOCATION:{location}
DESCRIPTION:225.58 Acres will be Offered in 2 Parcels!
URL:https://www.hertz.ag/auctions/detail/bw112238
SEQUENCE:1
END:VEVENT
END:VCALENDAR