BEGIN:VCALENDAR
VERSION:2.0
PRODID:-//ExpressionEngine Easy iCalendar plugin//NONSGML v2.0.1//EN
X-WR-TIMEZONE:America/Chicago
X-WR-CALNAME:Upcoming Auctions
BEGIN:VEVENT
UID:111171
DTSTAMP:20231219T100000
DTSTART:20231219T100000
DTEND:20231219T110000
SUMMARY:Closed - LaSalle Co.\, IL - 40.00 Ac.\, m/l (030-0476-01)
LOCATION:E 11th Rd. @ N 3rd Rd.\, Dana\, IL 61321\, US
DESCRIPTION:40.00 Acres will be Offered in 1 Parcel!
URL:https://www.hertz.ag/auctions/detail/bw111171
SEQUENCE:1
END:VEVENT
END:VCALENDAR